BEGIN:VCALENDAR
VERSION:2.0
PRODID:-//ChamberMaster//Event Calendar 2.0//EN
METHOD:PUBLISH
X-PUBLISHED-TTL:P3D
REFRESH-INTERVAL:P3D
CALSCALE:GREGORIAN
BEGIN:VEVENT
DTSTART:20240224T150000Z
DTEND:20240224T190000Z
X-MICROSOFT-CDO-ALLDAYEVENT:FALSE
SUMMARY:Food Drive Scruggs Vol Fire & Rescue
DESCRIPTION:Scruggs Volunteer Fire and Rescue is holding their 4th annual FOOD DRIVE February 24\, 2024 from 10AM-2PM\, Donors can drive through to DROP OFF Donations at the Scruggs Fire & Rescue Firehouse at 2130 Bluewater Drive\, Moneta\, VA 24121. DONATION DROP OFF TOTES will be in the following businesses February 1-23rd: Old Oak\, Dollar General (Bluewater and Scruggs)\, Waterfront Country Club Lobby\, and Amanda's Floral Designs (Rte 122 next to Aztec Rental). Non perishable items\, snacks\, box drinks\, cereals\, crackers\, granola bars\, applesauce packets\, raisins\, etc. The donations will be donated to our local school for children in need.
X-ALT-DESC;FMTTYPE=text/html:Scruggs Volunteer Fire and Rescue is holding their 4th annual FOOD DRIVE February 24\, 2024 from 10AM-2PM\, Donors can drive through to DROP OFF Donations at the Scruggs Fire &amp\; Rescue Firehouse at 2130 Bluewater Drive\, Moneta\, VA 24121. DONATION DROP OFF TOTES will be in the following businesses February 1-23rd: Old Oak\, Dollar General (Bluewater and Scruggs)\, Waterfront Country Club Lobby\, and Amanda&rsquo\;s Floral Designs (Rte 122 next to Aztec Rental). Non perishable items\, snacks\, box drinks\, cereals\, crackers\, granola bars\, applesauce packets\, raisins\, etc. The donations will be donated to our local school for children in need.
LOCATION:Scruggs Volunteer Fire and Rescue 2130 Bluewater Dr Moneta VA 24121
UID:e.541.32179
SEQUENCE:3
DTSTAMP:20260422T090051Z
URL:https://business.visitsmithmountainlake.com/events/details/food-drive-scruggs-vol-fire-rescue-32179
END:VEVENT

END:VCALENDAR
