BEGIN:VCALENDAR
VERSION:2.0
PRODID:-//ChamberMaster//Event Calendar 2.0//EN
METHOD:PUBLISH
X-PUBLISHED-TTL:P3D
REFRESH-INTERVAL:P3D
CALSCALE:GREGORIAN
BEGIN:VEVENT
DTSTART;VALUE=DATE:20240706
DTEND;VALUE=DATE:20240707
TRANSP:TRANSPARENT
X-MICROSOFT-CDO-ALLDAYEVENT:TRUE
SUMMARY:Independence Day Pickleball Tournament
DESCRIPTION:Huddleston Veterans Memorial Courts\n\nSUMMER TOURNAMENT\n\n\n\nIndependence Day Pickleball Tournament - July 6\n\n\n\nSign up yourself or your team by sending an email to smlboatrentals@gmail.com with your name(s) and age(s) and indicate the tournament in which you would like to participate.\n\n\n\n\n\nIn Honor of our Veterans\n\nwho help to make our way of life and freedoms possible.\n\n\n\nOpened in the summer of 2023\, Huddleston Veterans Memorial Courts (HVMC) supports youth sports in a well-organized and safe environment. HVMC is an outdoor recreational facility comprised of a full court basketball court\, a hockey rink for street and roller hockey\, and pickleball courts.\n\n\n\nThe facility is open to anyone and may be reserved by individuals or organizations at no charge.  Leagues are organized by the HVMC staff to include coaching and officiating.\n\n\n\nChildren under the age of 12 are required to have adult supervision at all times\, unless at a practice or game supervised by HVMC staff.\n\n\n\nDaily Pickup Games Every Day at 6:30pm\n\n\n\nStreet Hockey - Wednesday & Sunday\n\nBasketball - Monday & Friday\n\nWiffleball - Tuesday & Thursday\n\nPickleball - Everyday\n\n\n\nCheck availability or reserve a court online at www.huddlestonvmc.com or call (540) 484-3980
X-ALT-DESC;FMTTYPE=text/html:<br />\nHuddleston Veterans Memorial Courts<br />\nSUMMER TOURNAMENT<br />\n<br />\n<strong><span style="color:#FF0000"><span style="font-size:16px">Independence Day Pickleball Tournament - July 6</span></span></strong><br />\n<br />\n<span style="color:#FF0000">Sign up yourself or your team by sending an email to smlboatrentals@gmail.com with your name(s) and age(s) and indicate the tournament in which you would like to participate.</span><br />\n<br />\n<br />\n<strong>In Honor of our Veterans</strong><br />\n<strong>who help to make our way of life and freedoms possible.</strong><br />\n<br />\nOpened in the summer of 2023\, Huddleston Veterans Memorial Courts (HVMC) supports youth sports in a well-organized and safe environment. HVMC is an outdoor recreational facility comprised of a full court basketball court\, a hockey rink for street and roller hockey\, and pickleball courts.<br />\n<br />\nThe facility is open to anyone and may be reserved by individuals or organizations at no charge.&nbsp\; Leagues are organized by the HVMC staff to include coaching and officiating.<br />\n<br />\nChildren under the age of 12 are required to have adult supervision at all times\, unless at a practice or game supervised by HVMC staff.<br />\n<br />\n<strong>Daily Pickup Games Every Day at 6:30pm</strong><br />\n<br />\nStreet Hockey - Wednesday &amp\; Sunday<br />\nBasketball - Monday &amp\; Friday<br />\nWiffleball - Tuesday &amp\; Thursday<br />\nPickleball - Everyday<br />\n<br />\nCheck availability or reserve a court online at&nbsp\;<strong><a href="https://huddlestonvmc.com/">www.huddlestonvmc.com</a></strong>&nbsp\;or call (540) 484-3980
LOCATION:Huddleston Veterans Memorial Courts 3348 Trading Post Road Huddleston\, VA 24104
UID:e.541.33870
SEQUENCE:3
DTSTAMP:20260421T154848Z
URL:https://business.visitsmithmountainlake.com/events/details/independence-day-pickleball-tournament-33870
END:VEVENT

END:VCALENDAR
