BEGIN:VCALENDAR
VERSION:2.0
PRODID:-//ChamberMaster//Event Calendar 2.0//EN
METHOD:PUBLISH
X-PUBLISHED-TTL:P3D
REFRESH-INTERVAL:P3D
CALSCALE:GREGORIAN
BEGIN:VEVENT
DTSTART:20210702T230000Z
DTEND:20210703T010000Z
X-MICROSOFT-CDO-ALLDAYEVENT:FALSE
SUMMARY:LIVE MUSIC: Ryan Greer at Twin Creeks Distillery
DESCRIPTION:Ryan Greer ** LIVE ** at Twin Creeks Distillery!\n\n \n\nDrop in the distillery and support live music by local musician\, Ryan Greer. Spirits and complimentary refreshments will be on-site.
X-ALT-DESC;FMTTYPE=text/html:<div><em>Ryan Greer ** LIVE **<strong> </strong>at Twin Creeks Distillery!</em><br />\n&nbsp\;</div>\n\n<div>Drop in the distillery and support live music by local musician\, Ryan Greer. Spirits and complimentary refreshments will be on-site.&nbsp\;</div>\n
LOCATION:Twin Creeks Distillery 510 Franklin Street Rocky Mount\, Virginia 24151
UID:e.541.30298
SEQUENCE:3
DTSTAMP:20260421T101222Z
URL:https://business.visitsmithmountainlake.com/events/details/live-music-ryan-greer-at-twin-creeks-distillery-30298
END:VEVENT

END:VCALENDAR
