BEGIN:VCALENDAR
VERSION:2.0
PRODID:-//ChamberMaster//Event Calendar 2.0//EN
METHOD:PUBLISH
X-PUBLISHED-TTL:P3D
REFRESH-INTERVAL:P3D
CALSCALE:GREGORIAN
BEGIN:VEVENT
DTSTART:20190506T230000Z
DTEND:20190507T010000Z
X-MICROSOFT-CDO-ALLDAYEVENT:FALSE
SUMMARY:SML Photo Club Meeting
DESCRIPTION:The SML Photo Club is dedicated to improving the photography skills of its members. Open to any skill level.
X-ALT-DESC;FMTTYPE=text/html:The SML Photo Club is dedicated to improving the photography skills of its members. Open to any skill level.
LOCATION:Moneta/SML Library
UID:e.541.13456
SEQUENCE:3
DTSTAMP:20260421T085421Z
URL:https://business.visitsmithmountainlake.com/events/details/sml-photo-club-meeting-05-06-2019-13456
END:VEVENT

END:VCALENDAR
