BEGIN:VCALENDAR
VERSION:2.0
PRODID:-//ChamberMaster//Event Calendar 2.0//EN
METHOD:PUBLISH
X-PUBLISHED-TTL:P3D
REFRESH-INTERVAL:P3D
CALSCALE:GREGORIAN
BEGIN:VEVENT
DTSTART:20210619T180000Z
DTEND:20210619T210000Z
X-MICROSOFT-CDO-ALLDAYEVENT:FALSE
SUMMARY:Travis Reigh LIVE at Drifter's
DESCRIPTION:Live music on the waterfront!
X-ALT-DESC;FMTTYPE=text/html:Live music on the waterfront!
LOCATION:1617 Crystal Shores Dr\, Moneta\, VA 24121
UID:e.541.29499
SEQUENCE:3
DTSTAMP:20260423T104609Z
URL:https://business.visitsmithmountainlake.com/events/details/travis-reigh-live-at-drifter-s-06-19-2021-29499
END:VEVENT

END:VCALENDAR
