BEGIN:VCALENDAR
VERSION:2.0
PRODID:-//ChamberMaster//Event Calendar 2.0//EN
METHOD:PUBLISH
X-PUBLISHED-TTL:P3D
REFRESH-INTERVAL:P3D
CALSCALE:GREGORIAN
BEGIN:VEVENT
DTSTART:20170715T193000Z
DTEND:20170715T213000Z
X-MICROSOFT-CDO-ALLDAYEVENT:FALSE
SUMMARY:Virginia Dare Pirate Cruise
DESCRIPTION:Join us for a Pirate themed Cruise to celebrate Pirate Weekend here at Smith Mountain Lake. Our Pirate Cruise will be on Saturday July 15th from 3:30-5:30 and Sunday July 16th from 3:30-5:30. Cost is $35.00 per person and includes Hors d' oeuvres. On this fun filled Cruise\, upon approaching the Halesford Bridge we've heard they'll be other "Pirate Ships" in the area which we're pretty sure they'll take aim on the Virginia Dare. This Cruise is fun for all ages! Reservations Required!
X-ALT-DESC;FMTTYPE=text/html:Join us for a Pirate themed Cruise to celebrate Pirate Weekend here at Smith Mountain Lake. Our Pirate Cruise will be on Saturday July 15th from 3:30-5:30 and Sunday July 16th from 3:30-5:30. Cost is $35.00 per person and includes Hors d&rsquo\; oeuvres. On this fun filled Cruise\, upon approaching the Halesford Bridge we&rsquo\;ve heard they&rsquo\;ll be other &ldquo\;Pirate Ships&rdquo\; in the area which we&rsquo\;re pretty sure they&rsquo\;ll take aim on the Virginia Dare. This Cruise is fun for all ages! Reservations Required!
LOCATION:Virginia Dare Cruises\, Moneta
UID:e.541.13351
SEQUENCE:3
DTSTAMP:20260422T123532Z
URL:https://business.visitsmithmountainlake.com/events/details/virginia-dare-pirate-cruise-13351
END:VEVENT

END:VCALENDAR
