BEGIN:VCALENDAR
VERSION:2.0
PRODID:-//ChamberMaster//Event Calendar 2.0//EN
METHOD:PUBLISH
X-PUBLISHED-TTL:P3D
REFRESH-INTERVAL:P3D
CALSCALE:GREGORIAN
BEGIN:VEVENT
DTSTART:20190511T150000Z
DTEND:20190511T170000Z
X-MICROSOFT-CDO-ALLDAYEVENT:FALSE
SUMMARY:Waller's Saturday Special: Buy 2 Get 1 Crab Leg Clusters!
DESCRIPTION:You know you want 'em so come and get 'em... buy 2 get 1 Crab Leg Clusters!
X-ALT-DESC;FMTTYPE=text/html:You know you want &#39\;em so come and get &#39\;em... buy 2 get 1 Crab Leg Clusters!
LOCATION:Waller's - 1617 Crystal Shores Dr. Moneta\, VA 24121 By water: Between R26 & R8- directly across from R-27
UID:e.541.25258
SEQUENCE:3
DTSTAMP:20260425T104656Z
URL:https://business.visitsmithmountainlake.com/events/details/waller-s-saturday-special-buy-2-get-1-crab-leg-clusters-05-11-2019-25258
END:VEVENT

END:VCALENDAR
