BEGIN:VCALENDAR
VERSION:2.0
PRODID:-//ChamberMaster//Event Calendar 2.0//EN
METHOD:PUBLISH
X-PUBLISHED-TTL:P3D
REFRESH-INTERVAL:P3D
CALSCALE:GREGORIAN
BEGIN:VEVENT
DTSTART:20211009T153000Z
DTEND:20211009T163000Z
X-MICROSOFT-CDO-ALLDAYEVENT:FALSE
SUMMARY:What Bird Am I?
DESCRIPTION:See how many of our common birds you can identify. Then make your own bird call to keep. Try it out on one of over 12 miles of trails at the park. Pre-register at the Visitors Center.
X-ALT-DESC;FMTTYPE=text/html:See how many of our common birds you can identify. Then make your own bird call to keep. Try it out on one of over 12 miles of trails at the park. <em>Pre-register at the Visitors Center.</em>
LOCATION:Smith Mountain Lake State Park - Campground\, near bathhouse 1235 State Park Road Huddleston\, VA 24104
UID:e.541.30731
SEQUENCE:3
DTSTAMP:20260423T182524Z
URL:https://business.visitsmithmountainlake.com/events/details/what-bird-am-i-10-09-2021-30731
END:VEVENT

END:VCALENDAR
